BEGIN:VCALENDAR
VERSION:2.0
PRODID:-//Tukios.com/
BEGIN:VEVENT
UID:fcc76857-5b98-4094-9ffd-fa909b86c1f4@www.walbertfuneralhome.com
DTSTAMP:20260421T202849Z
DTSTART:20260425T140000Z
DTEND:20260425T150000Z
SUMMARY:Funeral Service
DESCRIPTION:
URL:https://www.walbertfuneralhome.com/obituaries/connor-koontz
LOCATION:St. Paul's Lutheran Church of Mertztown 50 Luther Drive  
	Mertztown PA 19539
GEO:40.5038022;-75.6654821
END:VEVENT
END:VCALENDAR