BEGIN:VCALENDAR
VERSION:2.0
PRODID:-//Tukios.com/
BEGIN:VEVENT
UID:fbb12377-d973-48a0-92da-37fb63e4c722@www.walbertfuneralhome.com
DTSTAMP:20260421T203115Z
DTSTART:20260425T130000Z
DTEND:20260425T140000Z
SUMMARY:Visitation - Public
DESCRIPTION:
URL:https://www.walbertfuneralhome.com/obituaries/connor-koontz
LOCATION:St. Paul's Lutheran Church of Mertztown 50 Luther Drive  
	Mertztown PA 19539
GEO:40.5038022;-75.6654821
END:VEVENT
END:VCALENDAR