BEGIN:VCALENDAR
VERSION:2.0
PRODID:-//Tukios.com/
BEGIN:VEVENT
UID:bcee5518-0632-45d7-95bd-4dd8442d6dbe@www.walbertfuneralhome.com
DTSTAMP:20260421T202736Z
DTSTART:20260424T210000Z
DTEND:20260425T000000Z
SUMMARY:Viewing - Public
DESCRIPTION:
URL:https://www.walbertfuneralhome.com/obituaries/connor-koontz
LOCATION:Walbert Funeral Home & Crematory 14390 Kutztown Road  Fleetwood 
	PA 19522
GEO:40.4858668;-75.8367362
END:VEVENT
END:VCALENDAR