BEGIN:VCALENDAR
VERSION:2.0
PRODID:-//Tukios.com/
BEGIN:VEVENT
UID:753f4f89-8260-4387-b81f-2f740b075f0d@www.walbertfuneralhome.com
DTSTAMP:20260424T005441Z
DTSTART:20260429T230000Z
DTEND:20260429T234500Z
SUMMARY:Memorial Service
DESCRIPTION:
URL:https://www.walbertfuneralhome.com/obituaries/dennis-walbert
LOCATION:Walbert Funeral Home & Crematory 14390 Kutztown Road  Fleetwood 
	PA 19522
GEO:40.4858668;-75.8367362
END:VEVENT
END:VCALENDAR