BEGIN:VCALENDAR
VERSION:2.0
PRODID:-//Tukios.com/
BEGIN:VEVENT
UID:48765bfe-4e32-49a6-b4d9-b3c258134ca9@www.walbertfuneralhome.com
DTSTAMP:20260425T195254Z
DTSTART:20260505T140000Z
DTEND:20260505T150000Z
SUMMARY:Visitation - Public
DESCRIPTION:
URL:https://www.walbertfuneralhome.com/obituaries/nevin-posey
LOCATION:Walbert Funeral Home & Crematory 14390 Kutztown Road  Fleetwood 
	PA 19522
GEO:40.4858668;-75.8367362
END:VEVENT
END:VCALENDAR