BEGIN:VCALENDAR
VERSION:2.0
PRODID:-//Tukios.com/
BEGIN:VEVENT
UID:af5ec34c-14b7-400a-a3ac-3637dd4c04e1@www.walbertfuneralhome.com
DTSTAMP:20260425T195012Z
DTSTART:20260505T150000Z
DTEND:20260505T160000Z
SUMMARY:Memorial Service
DESCRIPTION:
URL:https://www.walbertfuneralhome.com/obituaries/nevin-posey
LOCATION:Walbert Funeral Home & Crematory 14390 Kutztown Road  Fleetwood 
	PA 19522
GEO:40.4858668;-75.8367362
END:VEVENT
END:VCALENDAR